BEGIN:VCALENDAR
VERSION:2.0
PRODID:-//Bean Parish Council//Meeting Calendar//EN
CALSCALE:GREGORIAN
METHOD:PUBLISH
BEGIN:VEVENT
UID:71434-20260413@beanparishcouncil.gov.uk
DTSTAMP:20260419T132152Z
DTSTART;VALUE=DATE:20260413
DTEND;VALUE=DATE:20260414
SUMMARY:Monday April 13th 2026 &#8211\\; 7.30pm Full Council
DESCRIPTION:Full Council Meeting\nView details: https://beanparishcouncil.gov.uk/meetings/monday-april-13th-2026-7-30pm-full-council/
URL:https://beanparishcouncil.gov.uk/meetings/monday-april-13th-2026-7-30pm-full-council/
END:VEVENT
END:VCALENDAR
