BEGIN:VCALENDAR
VERSION:2.0
PRODID:-//Bean Parish Council//Meeting Calendar//EN
CALSCALE:GREGORIAN
METHOD:PUBLISH
BEGIN:VEVENT
UID:71432-20260309@beanparishcouncil.gov.uk
DTSTAMP:20260419T131605Z
DTSTART;VALUE=DATE:20260309
DTEND;VALUE=DATE:20260310
SUMMARY:Monday March 9th 2026 &#8211\\; 7pm Full Council
DESCRIPTION:Full Council Meeting\nView details: https://beanparishcouncil.gov.uk/meetings/monday-march-9th-2026-full-council/
URL:https://beanparishcouncil.gov.uk/meetings/monday-march-9th-2026-full-council/
END:VEVENT
END:VCALENDAR
