BEGIN:VCALENDAR
VERSION:2.0
PRODID:-//Bean Parish Council//Meeting Calendar//EN
CALSCALE:GREGORIAN
METHOD:PUBLISH
BEGIN:VEVENT
UID:71431-20260209@beanparishcouncil.gov.uk
DTSTAMP:20260419T150235Z
DTSTART;VALUE=DATE:20260209
DTEND;VALUE=DATE:20260210
SUMMARY:Monday February 9th 2026 &#8211\\; 7pm Full Council
DESCRIPTION:Full Council Meeting\nView details: https://beanparishcouncil.gov.uk/meetings/monday-february-9th-2026-full-council/
URL:https://beanparishcouncil.gov.uk/meetings/monday-february-9th-2026-full-council/
END:VEVENT
END:VCALENDAR
