BEGIN:VCALENDAR
VERSION:2.0
PRODID:-//Bean Parish Council//Meeting Calendar//EN
CALSCALE:GREGORIAN
METHOD:PUBLISH
BEGIN:VEVENT
UID:71430-20260112@beanparishcouncil.gov.uk
DTSTAMP:20260419T150830Z
DTSTART;VALUE=DATE:20260112
DTEND;VALUE=DATE:20260113
SUMMARY:Monday January 12th 2026 &#8211\\; 7pm Full Council
DESCRIPTION:Full Council Meeting\nView details: https://beanparishcouncil.gov.uk/meetings/monday-january-12th-2026-full-council/
URL:https://beanparishcouncil.gov.uk/meetings/monday-january-12th-2026-full-council/
END:VEVENT
END:VCALENDAR
