BEGIN:VCALENDAR
VERSION:2.0
PRODID:-//Bean Parish Council//Meeting Calendar//EN
CALSCALE:GREGORIAN
METHOD:PUBLISH
BEGIN:VEVENT
UID:71429-20251215@beanparishcouncil.gov.uk
DTSTAMP:20260419T150207Z
DTSTART;VALUE=DATE:20251215
DTEND;VALUE=DATE:20251216
SUMMARY:Monday December 15th 2025 &#8211\\; 7pm Full Council
DESCRIPTION:Full Council Meeting\nView details: https://beanparishcouncil.gov.uk/meetings/monday-december-8th-2025-full-council/
URL:https://beanparishcouncil.gov.uk/meetings/monday-december-8th-2025-full-council/
END:VEVENT
END:VCALENDAR
