BEGIN:VCALENDAR
VERSION:2.0
PRODID:-//Bean Parish Council//Meeting Calendar//EN
CALSCALE:GREGORIAN
METHOD:PUBLISH
BEGIN:VEVENT
UID:71427-20251013@beanparishcouncil.gov.uk
DTSTAMP:20260419T163850Z
DTSTART;VALUE=DATE:20251013
DTEND;VALUE=DATE:20251014
SUMMARY:Wednesday October 15th 2025 &#8211\\; 7pm Full Council
DESCRIPTION:Full Council Meeting\nView details: https://beanparishcouncil.gov.uk/meetings/monday-october-13th-full-council/
URL:https://beanparishcouncil.gov.uk/meetings/monday-october-13th-full-council/
END:VEVENT
END:VCALENDAR
