BEGIN:VCALENDAR
VERSION:2.0
PRODID:-//Bean Parish Council//Meeting Calendar//EN
CALSCALE:GREGORIAN
METHOD:PUBLISH
BEGIN:VEVENT
UID:71426-20250908@beanparishcouncil.gov.uk
DTSTAMP:20260419T163007Z
DTSTART;VALUE=DATE:20250908
DTEND;VALUE=DATE:20250909
SUMMARY:Monday September 8th 2025 &#8211\\; 7pm Full Council
DESCRIPTION:Full Council Meeting\nView details: https://beanparishcouncil.gov.uk/meetings/monday-september-8th-full-council/
URL:https://beanparishcouncil.gov.uk/meetings/monday-september-8th-full-council/
END:VEVENT
END:VCALENDAR
