BEGIN:VCALENDAR
VERSION:2.0
PRODID:-//Bean Parish Council//Meeting Calendar//EN
CALSCALE:GREGORIAN
METHOD:PUBLISH
BEGIN:VEVENT
UID:71229-20250512@beanparishcouncil.gov.uk
DTSTAMP:20260419T160020Z
DTSTART;VALUE=DATE:20250512
DTEND;VALUE=DATE:20250513
SUMMARY:Monday 12th May 2025 &#8211\\; 7pm Annual Meeting of the Council
DESCRIPTION:Annual Meeting of the Parish Council Meeting\nView details: https://beanparishcouncil.gov.uk/meetings/monday-12th-may-2025-7pm-annual-meting-of-the-council/
URL:https://beanparishcouncil.gov.uk/meetings/monday-12th-may-2025-7pm-annual-meting-of-the-council/
END:VEVENT
END:VCALENDAR
