BEGIN:VCALENDAR
VERSION:2.0
PRODID:-//Bean Parish Council//Meeting Calendar//EN
CALSCALE:GREGORIAN
METHOD:PUBLISH
BEGIN:VEVENT
UID:71227-20250414@beanparishcouncil.gov.uk
DTSTAMP:20260419T162337Z
DTSTART;VALUE=DATE:20250414
DTEND;VALUE=DATE:20250415
SUMMARY:14th April 2025 &#8211\\; 7pm Annual Parish Meeting
DESCRIPTION:Annual Parish Meeting Meeting\nView details: https://beanparishcouncil.gov.uk/meetings/monday-14th-april-7pm-annual-parish-meeting/
URL:https://beanparishcouncil.gov.uk/meetings/monday-14th-april-7pm-annual-parish-meeting/
END:VEVENT
END:VCALENDAR
