BEGIN:VCALENDAR
VERSION:2.0
PRODID:-//Bean Parish Council//Meeting Calendar//EN
CALSCALE:GREGORIAN
METHOD:PUBLISH
BEGIN:VEVENT
UID:71223-20241209@beanparishcouncil.gov.uk
DTSTAMP:20260419T193120Z
DTSTART;VALUE=DATE:20241209
DTEND;VALUE=DATE:20241210
SUMMARY:Monday 16th December 2024 &#8211\\; 7pm Full Council Meeting
DESCRIPTION:Full Council Meeting\nView details: https://beanparishcouncil.gov.uk/meetings/monday-16th-december-2024-7pm-full-council/
URL:https://beanparishcouncil.gov.uk/meetings/monday-16th-december-2024-7pm-full-council/
END:VEVENT
END:VCALENDAR
