BEGIN:VCALENDAR
VERSION:2.0
PRODID:-//Bean Parish Council//Meeting Calendar//EN
CALSCALE:GREGORIAN
METHOD:PUBLISH
BEGIN:VEVENT
UID:71130-20240610@beanparishcouncil.gov.uk
DTSTAMP:20260419T224430Z
DTSTART;VALUE=DATE:20240610
DTEND;VALUE=DATE:20240611
SUMMARY:10 June 2024 &#8211\\; 7pm Full Council Meeting
DESCRIPTION:Full Council Meeting\nView details: https://beanparishcouncil.gov.uk/meetings/10th-june-2024-7pm-full-council-meeting/
URL:https://beanparishcouncil.gov.uk/meetings/10th-june-2024-7pm-full-council-meeting/
END:VEVENT
END:VCALENDAR
