BEGIN:VCALENDAR
VERSION:2.0
PRODID:-//Bean Parish Council//Meeting Calendar//EN
CALSCALE:GREGORIAN
METHOD:PUBLISH
BEGIN:VEVENT
UID:71085-20230411@beanparishcouncil.gov.uk
DTSTAMP:20260419T162816Z
DTSTART;VALUE=DATE:20230411
DTEND;VALUE=DATE:20230412
SUMMARY:11th April 2023 7pm &#8211\\; Annual Parish Meeting
DESCRIPTION:Annual Parish Meeting Meeting\nView details: https://beanparishcouncil.gov.uk/meetings/11th-april-2023-7pm-annual-parish-meeting/
URL:https://beanparishcouncil.gov.uk/meetings/11th-april-2023-7pm-annual-parish-meeting/
END:VEVENT
END:VCALENDAR
