BEGIN:VCALENDAR
VERSION:2.0
PRODID:-//Bean Parish Council//Meeting Calendar//EN
CALSCALE:GREGORIAN
METHOD:PUBLISH
BEGIN:VEVENT
UID:70927-20240408@beanparishcouncil.gov.uk
DTSTAMP:20260420T003457Z
DTSTART;VALUE=DATE:20240408
DTEND;VALUE=DATE:20240409
SUMMARY:8 April 2024 &#8211\\; 7.30pm Full Council Meeting
DESCRIPTION:Full Council Meeting\nView details: https://beanparishcouncil.gov.uk/meetings/8-april-2024/
URL:https://beanparishcouncil.gov.uk/meetings/8-april-2024/
END:VEVENT
END:VCALENDAR
