BEGIN:VCALENDAR
VERSION:2.0
PRODID:-//Bean Parish Council//Meeting Calendar//EN
CALSCALE:GREGORIAN
METHOD:PUBLISH
BEGIN:VEVENT
UID:70926-20240408@beanparishcouncil.gov.uk
DTSTAMP:20260419T161051Z
DTSTART;VALUE=DATE:20240408
DTEND;VALUE=DATE:20240409
SUMMARY:8 April 2024 &#8211\\; 7pm Annual Parish Meeting
DESCRIPTION:Annual Parish Meeting Meeting\nView details: https://beanparishcouncil.gov.uk/meetings/8-april-2024-annual-parish-meeting/
URL:https://beanparishcouncil.gov.uk/meetings/8-april-2024-annual-parish-meeting/
END:VEVENT
END:VCALENDAR
