BEGIN:VCALENDAR
VERSION:2.0
PRODID:-//Bean Parish Council//Meeting Calendar//EN
CALSCALE:GREGORIAN
METHOD:PUBLISH
BEGIN:VEVENT
UID:70924-20240212@beanparishcouncil.gov.uk
DTSTAMP:20260420T002829Z
DTSTART;VALUE=DATE:20240212
DTEND;VALUE=DATE:20240213
SUMMARY:12 February 2024  &#8211\\; 7pm Full Council Meeting
DESCRIPTION:Full Council Meeting\nView details: https://beanparishcouncil.gov.uk/meetings/12-february-2024/
URL:https://beanparishcouncil.gov.uk/meetings/12-february-2024/
END:VEVENT
END:VCALENDAR
