BEGIN:VCALENDAR
VERSION:2.0
PRODID:-//Bean Parish Council//Meeting Calendar//EN
CALSCALE:GREGORIAN
METHOD:PUBLISH
BEGIN:VEVENT
UID:70922-20240108@beanparishcouncil.gov.uk
DTSTAMP:20260420T002829Z
DTSTART;VALUE=DATE:20240108
DTEND;VALUE=DATE:20240109
SUMMARY:8 January 2024 &#8211\\; 7pm Full Council Meeting
DESCRIPTION:Full Council Meeting\nView details: https://beanparishcouncil.gov.uk/meetings/8-january-2024/
URL:https://beanparishcouncil.gov.uk/meetings/8-january-2024/
END:VEVENT
END:VCALENDAR
