BEGIN:VCALENDAR
VERSION:2.0
PRODID:-//Bean Parish Council//Meeting Calendar//EN
CALSCALE:GREGORIAN
METHOD:PUBLISH
BEGIN:VEVENT
UID:70921-20231211@beanparishcouncil.gov.uk
DTSTAMP:20260420T015604Z
DTSTART;VALUE=DATE:20231211
DTEND;VALUE=DATE:20231212
SUMMARY:Full Parish Council 11 December 2023 -7pm
DESCRIPTION:Full Council Meeting\nView details: https://beanparishcouncil.gov.uk/meetings/11-december-2023/
URL:https://beanparishcouncil.gov.uk/meetings/11-december-2023/
END:VEVENT
END:VCALENDAR
