BEGIN:VCALENDAR
VERSION:2.0
PRODID:-//Bean Parish Council//Meeting Calendar//EN
CALSCALE:GREGORIAN
METHOD:PUBLISH
BEGIN:VEVENT
UID:70919-20231113@beanparishcouncil.gov.uk
DTSTAMP:20260420T021129Z
DTSTART;VALUE=DATE:20231113
DTEND;VALUE=DATE:20231114
SUMMARY:Full Parish Council 13 November 2023 &#8211\\; 7pm
DESCRIPTION:Full Council Meeting\nView details: https://beanparishcouncil.gov.uk/meetings/november-meeting/
URL:https://beanparishcouncil.gov.uk/meetings/november-meeting/
END:VEVENT
END:VCALENDAR
