BEGIN:VCALENDAR
VERSION:2.0
PRODID:-//Bean Parish Council//Meeting Calendar//EN
CALSCALE:GREGORIAN
METHOD:PUBLISH
BEGIN:VEVENT
UID:70900-20231004@beanparishcouncil.gov.uk
DTSTAMP:20260420T021256Z
DTSTART;VALUE=DATE:20231004
DTEND;VALUE=DATE:20231005
SUMMARY:Full Parish Council &#8211\\; 9th October 2023
DESCRIPTION:Full Council Meeting\nView details: https://beanparishcouncil.gov.uk/meetings/full-parish-council-october-2023/
URL:https://beanparishcouncil.gov.uk/meetings/full-parish-council-october-2023/
END:VEVENT
END:VCALENDAR
