BEGIN:VCALENDAR
VERSION:2.0
PRODID:-//Bean Parish Council//Meeting Calendar//EN
CALSCALE:GREGORIAN
METHOD:PUBLISH
BEGIN:VEVENT
UID:70703-20230501@beanparishcouncil.gov.uk
DTSTAMP:20260419T161100Z
DTSTART;VALUE=DATE:20230501
DTEND;VALUE=DATE:20230502
SUMMARY:Annual Council Meeting &#8211\\; May 2023
DESCRIPTION:Annual Meeting of the Parish Council Meeting\nView details: https://beanparishcouncil.gov.uk/meetings/annual-council-meeting-may-2023/
URL:https://beanparishcouncil.gov.uk/meetings/annual-council-meeting-may-2023/
END:VEVENT
END:VCALENDAR
