BEGIN:VCALENDAR
VERSION:2.0
PRODID:-//Bean Parish Council//Meeting Calendar//EN
CALSCALE:GREGORIAN
METHOD:PUBLISH
BEGIN:VEVENT
UID:70697-20210501@beanparishcouncil.gov.uk
DTSTAMP:20260419T160614Z
DTSTART;VALUE=DATE:20210501
DTEND;VALUE=DATE:20210502
SUMMARY:Annual Council Meeting &#8211\\; May 2021
DESCRIPTION:Annual Meeting of the Parish Council Meeting\nView details: https://beanparishcouncil.gov.uk/meetings/annual-council-meeting-may-2021/
URL:https://beanparishcouncil.gov.uk/meetings/annual-council-meeting-may-2021/
END:VEVENT
END:VCALENDAR
