BEGIN:VCALENDAR
VERSION:2.0
PRODID:-//Bean Parish Council//Meeting Calendar//EN
CALSCALE:GREGORIAN
METHOD:PUBLISH
BEGIN:VEVENT
UID:70694-20210601@beanparishcouncil.gov.uk
DTSTAMP:20260420T003513Z
DTSTART;VALUE=DATE:20210601
DTEND;VALUE=DATE:20210602
SUMMARY:Extraordinary Meeting &#8211\\; June 2021
DESCRIPTION:Full Council Meeting\nView details: https://beanparishcouncil.gov.uk/meetings/extraordinary-meeting-june-2021/
URL:https://beanparishcouncil.gov.uk/meetings/extraordinary-meeting-june-2021/
END:VEVENT
END:VCALENDAR
