BEGIN:VCALENDAR
VERSION:2.0
PRODID:-//Bean Parish Council//Meeting Calendar//EN
CALSCALE:GREGORIAN
METHOD:PUBLISH
BEGIN:VEVENT
UID:70688-20190501@beanparishcouncil.gov.uk
DTSTAMP:20260419T145522Z
DTSTART;VALUE=DATE:20190501
DTEND;VALUE=DATE:20190502
SUMMARY:Annual Council Meeting &#8211\\; May 2019
DESCRIPTION:Annual Meeting of the Parish Council Meeting\nView details: https://beanparishcouncil.gov.uk/meetings/annual-council-meeting-may-2019/
URL:https://beanparishcouncil.gov.uk/meetings/annual-council-meeting-may-2019/
END:VEVENT
END:VCALENDAR
