BEGIN:VCALENDAR
VERSION:2.0
PRODID:-//Bean Parish Council//Meeting Calendar//EN
CALSCALE:GREGORIAN
METHOD:PUBLISH
BEGIN:VEVENT
UID:70645-20230901@beanparishcouncil.gov.uk
DTSTAMP:20260420T022326Z
DTSTART;VALUE=DATE:20230901
DTEND;VALUE=DATE:20230902
SUMMARY:Full Parish Council &#8211\\; September 2023
DESCRIPTION:Full Council Meeting\nView details: https://beanparishcouncil.gov.uk/meetings/full-parish-council-september-2023/
URL:https://beanparishcouncil.gov.uk/meetings/full-parish-council-september-2023/
END:VEVENT
END:VCALENDAR
