BEGIN:VCALENDAR
VERSION:2.0
PRODID:-//Bean Parish Council//Meeting Calendar//EN
CALSCALE:GREGORIAN
METHOD:PUBLISH
BEGIN:VEVENT
UID:70641-20230601@beanparishcouncil.gov.uk
DTSTAMP:20260420T034952Z
DTSTART;VALUE=DATE:20230601
DTEND;VALUE=DATE:20230602
SUMMARY:Full Parish Council &#8211\\; June 2023
DESCRIPTION:Full Council Meeting\nView details: https://beanparishcouncil.gov.uk/meetings/full-parish-council-june-2023/
URL:https://beanparishcouncil.gov.uk/meetings/full-parish-council-june-2023/
END:VEVENT
END:VCALENDAR
