BEGIN:VCALENDAR
VERSION:2.0
PRODID:-//Bean Parish Council//Meeting Calendar//EN
CALSCALE:GREGORIAN
METHOD:PUBLISH
BEGIN:VEVENT
UID:70639-20230501@beanparishcouncil.gov.uk
DTSTAMP:20260420T034952Z
DTSTART;VALUE=DATE:20230501
DTEND;VALUE=DATE:20230502
SUMMARY:Full Parish Council &#8211\\; May 2023
DESCRIPTION:Full Council Meeting\nView details: https://beanparishcouncil.gov.uk/meetings/full-parish-council-may-2023/
URL:https://beanparishcouncil.gov.uk/meetings/full-parish-council-may-2023/
END:VEVENT
END:VCALENDAR
