BEGIN:VCALENDAR
VERSION:2.0
PRODID:-//Bean Parish Council//Meeting Calendar//EN
CALSCALE:GREGORIAN
METHOD:PUBLISH
BEGIN:VEVENT
UID:70634-20230201@beanparishcouncil.gov.uk
DTSTAMP:20260420T051752Z
DTSTART;VALUE=DATE:20230201
DTEND;VALUE=DATE:20230202
SUMMARY:Full Parish Council &#8211\\; February 2023
DESCRIPTION:Full Council Meeting\nView details: https://beanparishcouncil.gov.uk/meetings/full-parish-council-february-2023/
URL:https://beanparishcouncil.gov.uk/meetings/full-parish-council-february-2023/
END:VEVENT
END:VCALENDAR
