BEGIN:VCALENDAR
VERSION:2.0
PRODID:-//Bean Parish Council//Meeting Calendar//EN
CALSCALE:GREGORIAN
METHOD:PUBLISH
BEGIN:VEVENT
UID:70619-20220901@beanparishcouncil.gov.uk
DTSTAMP:20260420T051954Z
DTSTART;VALUE=DATE:20220901
DTEND;VALUE=DATE:20220902
SUMMARY:Full Parish Council &#8211\\; September 2022
DESCRIPTION:Full Council Meeting\nView details: https://beanparishcouncil.gov.uk/meetings/full-parish-council-september-2022/
URL:https://beanparishcouncil.gov.uk/meetings/full-parish-council-september-2022/
END:VEVENT
END:VCALENDAR
