BEGIN:VCALENDAR
VERSION:2.0
PRODID:-//Bean Parish Council//Meeting Calendar//EN
CALSCALE:GREGORIAN
METHOD:PUBLISH
BEGIN:VEVENT
UID:70616-20220701@beanparishcouncil.gov.uk
DTSTAMP:20260420T052140Z
DTSTART;VALUE=DATE:20220701
DTEND;VALUE=DATE:20220702
SUMMARY:Full Parish Council &#8211\\; July 2022
DESCRIPTION:Full Council Meeting\nView details: https://beanparishcouncil.gov.uk/meetings/full-parish-council-july-2022/
URL:https://beanparishcouncil.gov.uk/meetings/full-parish-council-july-2022/
END:VEVENT
END:VCALENDAR
