BEGIN:VCALENDAR
VERSION:2.0
PRODID:-//Bean Parish Council//Meeting Calendar//EN
CALSCALE:GREGORIAN
METHOD:PUBLISH
BEGIN:VEVENT
UID:70601-20220201@beanparishcouncil.gov.uk
DTSTAMP:20260420T035346Z
DTSTART;VALUE=DATE:20220201
DTEND;VALUE=DATE:20220202
SUMMARY:Full Parish Council &#8211\\; February 2022
DESCRIPTION:Full Council Meeting\nView details: https://beanparishcouncil.gov.uk/meetings/full-parish-council-february-2022/
URL:https://beanparishcouncil.gov.uk/meetings/full-parish-council-february-2022/
END:VEVENT
END:VCALENDAR
