BEGIN:VCALENDAR
VERSION:2.0
PRODID:-//Bean Parish Council//Meeting Calendar//EN
CALSCALE:GREGORIAN
METHOD:PUBLISH
BEGIN:VEVENT
UID:70595-20211201@beanparishcouncil.gov.uk
DTSTAMP:20260420T022410Z
DTSTART;VALUE=DATE:20211201
DTEND;VALUE=DATE:20211202
SUMMARY:Full Parish Council &#8211\\; December 2021
DESCRIPTION:Full Council Meeting\nView details: https://beanparishcouncil.gov.uk/meetings/full-parish-council-december-2021/
URL:https://beanparishcouncil.gov.uk/meetings/full-parish-council-december-2021/
END:VEVENT
END:VCALENDAR
