BEGIN:VCALENDAR
VERSION:2.0
PRODID:-//Bean Parish Council//Meeting Calendar//EN
CALSCALE:GREGORIAN
METHOD:PUBLISH
BEGIN:VEVENT
UID:70592-20211101@beanparishcouncil.gov.uk
DTSTAMP:20260420T022730Z
DTSTART;VALUE=DATE:20211101
DTEND;VALUE=DATE:20211102
SUMMARY:Full Parish Council &#8211\\; November 2021
DESCRIPTION:Full Council Meeting\nView details: https://beanparishcouncil.gov.uk/meetings/full-parish-council-november-2021/
URL:https://beanparishcouncil.gov.uk/meetings/full-parish-council-november-2021/
END:VEVENT
END:VCALENDAR
