BEGIN:VCALENDAR
VERSION:2.0
PRODID:-//Bean Parish Council//Meeting Calendar//EN
CALSCALE:GREGORIAN
METHOD:PUBLISH
BEGIN:VEVENT
UID:70589-20211001@beanparishcouncil.gov.uk
DTSTAMP:20260420T022920Z
DTSTART;VALUE=DATE:20211001
DTEND;VALUE=DATE:20211002
SUMMARY:Full Parish Council &#8211\\; October 2021
DESCRIPTION:Full Council Meeting\nView details: https://beanparishcouncil.gov.uk/meetings/full-parish-council-october-2021/
URL:https://beanparishcouncil.gov.uk/meetings/full-parish-council-october-2021/
END:VEVENT
END:VCALENDAR
