BEGIN:VCALENDAR
VERSION:2.0
PRODID:-//Bean Parish Council//Meeting Calendar//EN
CALSCALE:GREGORIAN
METHOD:PUBLISH
BEGIN:VEVENT
UID:70586-20210901@beanparishcouncil.gov.uk
DTSTAMP:20260420T004143Z
DTSTART;VALUE=DATE:20210901
DTEND;VALUE=DATE:20210902
SUMMARY:Full Parish Council &#8211\\; September 2021
DESCRIPTION:Full Council Meeting\nView details: https://beanparishcouncil.gov.uk/meetings/full-parish-council-september-2021/
URL:https://beanparishcouncil.gov.uk/meetings/full-parish-council-september-2021/
END:VEVENT
END:VCALENDAR
