BEGIN:VCALENDAR
VERSION:2.0
PRODID:-//Bean Parish Council//Meeting Calendar//EN
CALSCALE:GREGORIAN
METHOD:PUBLISH
BEGIN:VEVENT
UID:70574-20210201@beanparishcouncil.gov.uk
DTSTAMP:20260419T230713Z
DTSTART;VALUE=DATE:20210201
DTEND;VALUE=DATE:20210202
SUMMARY:Full Parish Council &#8211\\; February 2021
DESCRIPTION:Full Council Meeting\nView details: https://beanparishcouncil.gov.uk/meetings/full-parish-council-february-2021/
URL:https://beanparishcouncil.gov.uk/meetings/full-parish-council-february-2021/
END:VEVENT
END:VCALENDAR
