BEGIN:VCALENDAR
VERSION:2.0
PRODID:-//Bean Parish Council//Meeting Calendar//EN
CALSCALE:GREGORIAN
METHOD:PUBLISH
BEGIN:VEVENT
UID:70565-20201001@beanparishcouncil.gov.uk
DTSTAMP:20260419T211325Z
DTSTART;VALUE=DATE:20201001
DTEND;VALUE=DATE:20201002
SUMMARY:Full Parish Council &#8211\\; October 2020
DESCRIPTION:Full Council Meeting\nView details: https://beanparishcouncil.gov.uk/meetings/full-parish-council-october-2020/
URL:https://beanparishcouncil.gov.uk/meetings/full-parish-council-october-2020/
END:VEVENT
END:VCALENDAR
