BEGIN:VCALENDAR
VERSION:2.0
PRODID:-//Bean Parish Council//Meeting Calendar//EN
CALSCALE:GREGORIAN
METHOD:PUBLISH
BEGIN:VEVENT
UID:70559-20200401@beanparishcouncil.gov.uk
DTSTAMP:20260419T192754Z
DTSTART;VALUE=DATE:20200401
DTEND;VALUE=DATE:20200402
SUMMARY:Full Parish Council &#8211\\; April 2020
DESCRIPTION:Full Council Meeting\nView details: https://beanparishcouncil.gov.uk/meetings/full-parish-council-april-2020/
URL:https://beanparishcouncil.gov.uk/meetings/full-parish-council-april-2020/
END:VEVENT
END:VCALENDAR
