BEGIN:VCALENDAR
VERSION:2.0
PRODID:-//Bean Parish Council//Meeting Calendar//EN
CALSCALE:GREGORIAN
METHOD:PUBLISH
BEGIN:VEVENT
UID:70544-20191101@beanparishcouncil.gov.uk
DTSTAMP:20260419T160931Z
DTSTART;VALUE=DATE:20191101
DTEND;VALUE=DATE:20191102
SUMMARY:Full Parish Council &#8211\\; November 2019
DESCRIPTION:Full Council Meeting\nView details: https://beanparishcouncil.gov.uk/meetings/full-parish-council-november-2019/
URL:https://beanparishcouncil.gov.uk/meetings/full-parish-council-november-2019/
END:VEVENT
END:VCALENDAR
