BEGIN:VCALENDAR
VERSION:2.0
PRODID:-//Bean Parish Council//Meeting Calendar//EN
CALSCALE:GREGORIAN
METHOD:PUBLISH
BEGIN:VEVENT
UID:70541-20191001@beanparishcouncil.gov.uk
DTSTAMP:20260419T163804Z
DTSTART;VALUE=DATE:20191001
DTEND;VALUE=DATE:20191002
SUMMARY:Full Parish Council &#8211\\; October 2019
DESCRIPTION:Full Council Meeting\nView details: https://beanparishcouncil.gov.uk/meetings/full-parish-council-october-2019/
URL:https://beanparishcouncil.gov.uk/meetings/full-parish-council-october-2019/
END:VEVENT
END:VCALENDAR
