BEGIN:VCALENDAR
VERSION:2.0
PRODID:-//Bean Parish Council//Meeting Calendar//EN
CALSCALE:GREGORIAN
METHOD:PUBLISH
BEGIN:VEVENT
UID:70533-20190601@beanparishcouncil.gov.uk
DTSTAMP:20260419T144455Z
DTSTART;VALUE=DATE:20190601
DTEND;VALUE=DATE:20190602
SUMMARY:Full Parish Council &#8211\\; June 2019
DESCRIPTION:Full Council Meeting\nView details: https://beanparishcouncil.gov.uk/meetings/full-parish-council-june-2019/
URL:https://beanparishcouncil.gov.uk/meetings/full-parish-council-june-2019/
END:VEVENT
END:VCALENDAR
